BEGIN:VCALENDAR
VERSION:2.0
PRODID:-//Lebenshilfe Leonberg - ECPv6.15.11//NONSGML v1.0//EN
CALSCALE:GREGORIAN
METHOD:PUBLISH
X-WR-CALNAME:Lebenshilfe Leonberg
X-ORIGINAL-URL:https://www.lebenshilfe-leonberg.de
X-WR-CALDESC:Veranstaltungen für Lebenshilfe Leonberg
REFRESH-INTERVAL;VALUE=DURATION:PT1H
X-Robots-Tag:noindex
X-PUBLISHED-TTL:PT1H
BEGIN:VTIMEZONE
TZID:Europe/Berlin
BEGIN:DAYLIGHT
TZOFFSETFROM:+0100
TZOFFSETTO:+0200
TZNAME:CEST
DTSTART:20250330T010000
END:DAYLIGHT
BEGIN:STANDARD
TZOFFSETFROM:+0200
TZOFFSETTO:+0100
TZNAME:CET
DTSTART:20251026T010000
END:STANDARD
BEGIN:DAYLIGHT
TZOFFSETFROM:+0100
TZOFFSETTO:+0200
TZNAME:CEST
DTSTART:20260329T010000
END:DAYLIGHT
BEGIN:STANDARD
TZOFFSETFROM:+0200
TZOFFSETTO:+0100
TZNAME:CET
DTSTART:20261025T010000
END:STANDARD
BEGIN:DAYLIGHT
TZOFFSETFROM:+0100
TZOFFSETTO:+0200
TZNAME:CEST
DTSTART:20270328T010000
END:DAYLIGHT
BEGIN:STANDARD
TZOFFSETFROM:+0200
TZOFFSETTO:+0100
TZNAME:CET
DTSTART:20271031T010000
END:STANDARD
END:VTIMEZONE
BEGIN:VEVENT
DTSTART;VALUE=DATE:20260928
DTEND;VALUE=DATE:20261005
DTSTAMP:20260420T112337
CREATED:20260120T120503Z
LAST-MODIFIED:20260120T120503Z
UID:7848-1790553600-1791158399@www.lebenshilfe-leonberg.de
SUMMARY:Freizeit-Griechenland-Erwachsene
DESCRIPTION:
URL:https://www.lebenshilfe-leonberg.de/kalender/freizeit-griechenland-erwachsene/
END:VEVENT
BEGIN:VEVENT
DTSTART;TZID=Europe/Berlin:20261004T140000
DTEND;TZID=Europe/Berlin:20261004T163000
DTSTAMP:20260420T112337
CREATED:20260115T110433Z
LAST-MODIFIED:20260115T110433Z
UID:7718-1791122400-1791131400@www.lebenshilfe-leonberg.de
SUMMARY:Sonntags-Café
DESCRIPTION:
URL:https://www.lebenshilfe-leonberg.de/kalender/sonntags-cafe-9/
END:VEVENT
BEGIN:VEVENT
DTSTART;TZID=Europe/Berlin:20261005T160000
DTEND;TZID=Europe/Berlin:20261005T173000
DTSTAMP:20260420T112337
CREATED:20260113T155424Z
LAST-MODIFIED:20260113T155424Z
UID:7658-1791216000-1791221400@www.lebenshilfe-leonberg.de
SUMMARY:Kegeln
DESCRIPTION:
URL:https://www.lebenshilfe-leonberg.de/kalender/kegeln-68/
END:VEVENT
BEGIN:VEVENT
DTSTART;TZID=Europe/Berlin:20261008T160000
DTEND;TZID=Europe/Berlin:20261008T190000
DTSTAMP:20260420T112337
CREATED:20260120T120741Z
LAST-MODIFIED:20260120T120741Z
UID:7850-1791475200-1791486000@www.lebenshilfe-leonberg.de
SUMMARY:Kochen& Backen
DESCRIPTION:
URL:https://www.lebenshilfe-leonberg.de/kalender/kochen-backen/
END:VEVENT
BEGIN:VEVENT
DTSTART;VALUE=DATE:20261009
DTEND;VALUE=DATE:20261012
DTSTAMP:20260420T112337
CREATED:20260120T120845Z
LAST-MODIFIED:20260120T120845Z
UID:7852-1791504000-1791763199@www.lebenshilfe-leonberg.de
SUMMARY:Wochenende- Erwachsene
DESCRIPTION:
URL:https://www.lebenshilfe-leonberg.de/kalender/wochenende-erwachsene-5/
END:VEVENT
BEGIN:VEVENT
DTSTART;TZID=Europe/Berlin:20261012T173000
DTEND;TZID=Europe/Berlin:20261012T193000
DTSTAMP:20260420T112337
CREATED:20260120T121557Z
LAST-MODIFIED:20260120T121557Z
UID:7863-1791826200-1791833400@www.lebenshilfe-leonberg.de
SUMMARY:Gemeinsam kreativ sein- aber wie?- Ehrenamtliche
DESCRIPTION:
URL:https://www.lebenshilfe-leonberg.de/kalender/gemeinsam-kreativ-sein-aber-wie-ehrenamtliche/
END:VEVENT
BEGIN:VEVENT
DTSTART;TZID=Europe/Berlin:20261013T100000
DTEND;TZID=Europe/Berlin:20261013T120000
DTSTAMP:20260420T112337
CREATED:20260120T100854Z
LAST-MODIFIED:20260120T100854Z
UID:7738-1791885600-1791892800@www.lebenshilfe-leonberg.de
SUMMARY:Gesprächskreis ´Anfang´
DESCRIPTION:
URL:https://www.lebenshilfe-leonberg.de/kalender/gespraechskreis-anfang-5/
END:VEVENT
BEGIN:VEVENT
DTSTART;TZID=Europe/Berlin:20261015T160000
DTEND;TZID=Europe/Berlin:20261015T183000
DTSTAMP:20260420T112337
CREATED:20260113T154229Z
LAST-MODIFIED:20260113T154229Z
UID:7622-1792080000-1792089000@www.lebenshilfe-leonberg.de
SUMMARY:Häkelkurs
DESCRIPTION:
URL:https://www.lebenshilfe-leonberg.de/kalender/haekelkurs-44/
END:VEVENT
BEGIN:VEVENT
DTSTART;VALUE=DATE:20261016
DTEND;VALUE=DATE:20261019
DTSTAMP:20260420T112337
CREATED:20260120T121847Z
LAST-MODIFIED:20260120T121847Z
UID:7867-1792108800-1792367999@www.lebenshilfe-leonberg.de
SUMMARY:Wochenende- Teenie
DESCRIPTION:
URL:https://www.lebenshilfe-leonberg.de/kalender/wochenende-teenie/
END:VEVENT
BEGIN:VEVENT
DTSTART;TZID=Europe/Berlin:20261017T100000
DTEND;TZID=Europe/Berlin:20261017T130000
DTSTAMP:20260420T112337
CREATED:20260120T121745Z
LAST-MODIFIED:20260120T121745Z
UID:7865-1792231200-1792242000@www.lebenshilfe-leonberg.de
SUMMARY:Infovormittag ADHS
DESCRIPTION:
URL:https://www.lebenshilfe-leonberg.de/kalender/infovormittag-adhs/
END:VEVENT
BEGIN:VEVENT
DTSTART;TZID=Europe/Berlin:20261019T160000
DTEND;TZID=Europe/Berlin:20261019T173000
DTSTAMP:20260420T112337
CREATED:20260113T155450Z
LAST-MODIFIED:20260113T155450Z
UID:7660-1792425600-1792431000@www.lebenshilfe-leonberg.de
SUMMARY:Kegeln
DESCRIPTION:
URL:https://www.lebenshilfe-leonberg.de/kalender/kegeln-69/
END:VEVENT
BEGIN:VEVENT
DTSTART;TZID=Europe/Berlin:20261019T160000
DTEND;TZID=Europe/Berlin:20261019T183000
DTSTAMP:20260420T112337
CREATED:20260120T111213Z
LAST-MODIFIED:20260120T111213Z
UID:7797-1792425600-1792434600@www.lebenshilfe-leonberg.de
SUMMARY:Wir basteln durchs Jahr
DESCRIPTION:
URL:https://www.lebenshilfe-leonberg.de/kalender/wir-basteln-durchs-jahr-8/
END:VEVENT
BEGIN:VEVENT
DTSTART;TZID=Europe/Berlin:20261022T093000
DTEND;TZID=Europe/Berlin:20261022T120000
DTSTAMP:20260420T112337
CREATED:20260113T160305Z
LAST-MODIFIED:20260113T160305Z
UID:7682-1792661400-1792670400@www.lebenshilfe-leonberg.de
SUMMARY:Gesprächskreis ´Mittendrin´
DESCRIPTION:
URL:https://www.lebenshilfe-leonberg.de/kalender/gespraechskreis-mittendrin-49/
END:VEVENT
BEGIN:VEVENT
DTSTART;TZID=Europe/Berlin:20261024T100000
DTEND;TZID=Europe/Berlin:20261024T173000
DTSTAMP:20260420T112337
CREATED:20260120T095807Z
LAST-MODIFIED:20260120T095807Z
UID:7728-1792836000-1792863000@www.lebenshilfe-leonberg.de
SUMMARY:Samstag in der Lebenshilfe
DESCRIPTION:
URL:https://www.lebenshilfe-leonberg.de/kalender/samstag-in-der-lebenshilfe-9/
END:VEVENT
BEGIN:VEVENT
DTSTART;TZID=Europe/Berlin:20261026T090000
DTEND;TZID=Europe/Berlin:20261030T163000
DTSTAMP:20260420T112337
CREATED:20260120T110007Z
LAST-MODIFIED:20260120T110007Z
UID:7782-1793005200-1793377800@www.lebenshilfe-leonberg.de
SUMMARY:Ferienbetreuung Herbstferien
DESCRIPTION:
URL:https://www.lebenshilfe-leonberg.de/kalender/ferienbetreuung-herbstferien/
END:VEVENT
BEGIN:VEVENT
DTSTART;VALUE=DATE:20261031
DTEND;VALUE=DATE:20261101
DTSTAMP:20260420T112337
CREATED:20260120T102358Z
LAST-MODIFIED:20260120T102358Z
UID:7753-1793404800-1793491199@www.lebenshilfe-leonberg.de
SUMMARY:Wochenend-Programm
DESCRIPTION:
URL:https://www.lebenshilfe-leonberg.de/kalender/wochenend-programm-5/
END:VEVENT
END:VCALENDAR