BEGIN:VCALENDAR
VERSION:2.0
PRODID:-//Lebenshilfe Leonberg - ECPv6.15.11//NONSGML v1.0//EN
CALSCALE:GREGORIAN
METHOD:PUBLISH
X-WR-CALNAME:Lebenshilfe Leonberg
X-ORIGINAL-URL:https://www.lebenshilfe-leonberg.de
X-WR-CALDESC:Veranstaltungen für Lebenshilfe Leonberg
REFRESH-INTERVAL;VALUE=DURATION:PT1H
X-Robots-Tag:noindex
X-PUBLISHED-TTL:PT1H
BEGIN:VTIMEZONE
TZID:Europe/Helsinki
BEGIN:DAYLIGHT
TZOFFSETFROM:+0200
TZOFFSETTO:+0300
TZNAME:EEST
DTSTART:20180325T010000
END:DAYLIGHT
BEGIN:STANDARD
TZOFFSETFROM:+0300
TZOFFSETTO:+0200
TZNAME:EET
DTSTART:20181028T010000
END:STANDARD
BEGIN:DAYLIGHT
TZOFFSETFROM:+0200
TZOFFSETTO:+0300
TZNAME:EEST
DTSTART:20190331T010000
END:DAYLIGHT
BEGIN:STANDARD
TZOFFSETFROM:+0300
TZOFFSETTO:+0200
TZNAME:EET
DTSTART:20191027T010000
END:STANDARD
BEGIN:DAYLIGHT
TZOFFSETFROM:+0200
TZOFFSETTO:+0300
TZNAME:EEST
DTSTART:20200329T010000
END:DAYLIGHT
BEGIN:STANDARD
TZOFFSETFROM:+0300
TZOFFSETTO:+0200
TZNAME:EET
DTSTART:20201025T010000
END:STANDARD
END:VTIMEZONE
BEGIN:VEVENT
DTSTART;VALUE=DATE:20191129
DTEND;VALUE=DATE:20191202
DTSTAMP:20260422T150729
CREATED:20190314T144808Z
LAST-MODIFIED:20190314T144808Z
UID:3340-1574985600-1575244799@www.lebenshilfe-leonberg.de
SUMMARY:Wochenende in der Lebenshilfe
DESCRIPTION:
URL:https://www.lebenshilfe-leonberg.de/kalender/wochenende-in-der-lebenshilfe-7/
END:VEVENT
BEGIN:VEVENT
DTSTART;TZID=Europe/Helsinki:20191202T160000
DTEND;TZID=Europe/Helsinki:20191202T180000
DTSTAMP:20260422T150729
CREATED:20190315T123503Z
LAST-MODIFIED:20190315T123503Z
UID:3430-1575302400-1575309600@www.lebenshilfe-leonberg.de
SUMMARY:Kegeln
DESCRIPTION:
URL:https://www.lebenshilfe-leonberg.de/kalender/kegeln-20/
END:VEVENT
BEGIN:VEVENT
DTSTART;TZID=Europe/Helsinki:20191203T090000
DTEND;TZID=Europe/Helsinki:20191203T113000
DTSTAMP:20260422T150729
CREATED:20190315T144142Z
LAST-MODIFIED:20190315T144142Z
UID:3539-1575363600-1575372600@www.lebenshilfe-leonberg.de
SUMMARY:Seniorentreff
DESCRIPTION:Im Wohnheim in der Ulmer Straße 29.
URL:https://www.lebenshilfe-leonberg.de/kalender/seniorentreff-8/
END:VEVENT
BEGIN:VEVENT
DTSTART;TZID=Europe/Helsinki:20191203T160000
DTEND;TZID=Europe/Helsinki:20191203T180000
DTSTAMP:20260422T150729
CREATED:20190315T130034Z
LAST-MODIFIED:20190315T130034Z
UID:3477-1575388800-1575396000@www.lebenshilfe-leonberg.de
SUMMARY:Kegeln
DESCRIPTION:
URL:https://www.lebenshilfe-leonberg.de/kalender/kegeln-35/
END:VEVENT
BEGIN:VEVENT
DTSTART;TZID=Europe/Helsinki:20191204T180000
DTEND;TZID=Europe/Helsinki:20191204T193000
DTSTAMP:20260422T150729
CREATED:20190503T115747Z
LAST-MODIFIED:20190503T115747Z
UID:3747-1575482400-1575487800@www.lebenshilfe-leonberg.de
SUMMARY:Chorprobe
DESCRIPTION:
URL:https://www.lebenshilfe-leonberg.de/kalender/chorprobe-7/
END:VEVENT
BEGIN:VEVENT
DTSTART;VALUE=DATE:20191206
DTEND;VALUE=DATE:20191209
DTSTAMP:20260422T150729
CREATED:20190315T145705Z
LAST-MODIFIED:20190315T145705Z
UID:3590-1575590400-1575849599@www.lebenshilfe-leonberg.de
SUMMARY:Wochenende Adventszeit
DESCRIPTION:
URL:https://www.lebenshilfe-leonberg.de/kalender/wochenende-adventszeit/
END:VEVENT
BEGIN:VEVENT
DTSTART;TZID=Europe/Helsinki:20191207T133000
DTEND;TZID=Europe/Helsinki:20191207T150000
DTSTAMP:20260422T150729
CREATED:20190315T151754Z
LAST-MODIFIED:20190315T151754Z
UID:3645-1575725400-1575730800@www.lebenshilfe-leonberg.de
SUMMARY:Schwimmen
DESCRIPTION:
URL:https://www.lebenshilfe-leonberg.de/kalender/schwimmen-7/
END:VEVENT
BEGIN:VEVENT
DTSTART;VALUE=DATE:20191210
DTEND;VALUE=DATE:20191211
DTSTAMP:20260422T150729
CREATED:20190227T092213Z
LAST-MODIFIED:20190227T092213Z
UID:3257-1575936000-1576022399@www.lebenshilfe-leonberg.de
SUMMARY:Club 19
DESCRIPTION:
URL:https://www.lebenshilfe-leonberg.de/kalender/ferientagesbetreuung-faschingsferien-7/
END:VEVENT
BEGIN:VEVENT
DTSTART;TZID=Europe/Helsinki:20191210T100000
DTEND;TZID=Europe/Helsinki:20191210T120000
DTSTAMP:20260422T150729
CREATED:20190513T120818Z
LAST-MODIFIED:20190513T120818Z
UID:3810-1575972000-1575979200@www.lebenshilfe-leonberg.de
SUMMARY:Gesprächskreis "von Anfang an"
DESCRIPTION:Leitung: Marion Speidel
URL:https://www.lebenshilfe-leonberg.de/kalender/gespraechskreis-von-anfang-an-6/
END:VEVENT
BEGIN:VEVENT
DTSTART;TZID=Europe/Helsinki:20191210T160000
DTEND;TZID=Europe/Helsinki:20191210T190000
DTSTAMP:20260422T150729
CREATED:20190315T121914Z
LAST-MODIFIED:20190315T121914Z
UID:3386-1575993600-1576004400@www.lebenshilfe-leonberg.de
SUMMARY:Club 19
DESCRIPTION:
URL:https://www.lebenshilfe-leonberg.de/kalender/club-19-23/
END:VEVENT
BEGIN:VEVENT
DTSTART;TZID=Europe/Helsinki:20191212T160000
DTEND;TZID=Europe/Helsinki:20191212T183000
DTSTAMP:20260422T150729
CREATED:20190315T143245Z
LAST-MODIFIED:20190315T143245Z
UID:3515-1576166400-1576175400@www.lebenshilfe-leonberg.de
SUMMARY:Filzen für Weihnachten
DESCRIPTION:
URL:https://www.lebenshilfe-leonberg.de/kalender/filzen-fuer-weihnachten/
END:VEVENT
BEGIN:VEVENT
DTSTART;TZID=Europe/Helsinki:20191214T090000
DTEND;TZID=Europe/Helsinki:20191214T163000
DTSTAMP:20260422T150729
CREATED:20190315T144703Z
LAST-MODIFIED:20190315T144703Z
UID:3560-1576314000-1576341000@www.lebenshilfe-leonberg.de
SUMMARY:Samstag in der Lebenshilfe
DESCRIPTION:
URL:https://www.lebenshilfe-leonberg.de/kalender/samstag-in-der-lebenshilfe-3/
END:VEVENT
BEGIN:VEVENT
DTSTART;TZID=Europe/Helsinki:20191216T160000
DTEND;TZID=Europe/Helsinki:20191216T180000
DTSTAMP:20260422T150729
CREATED:20190315T124229Z
LAST-MODIFIED:20190315T124229Z
UID:3433-1576512000-1576519200@www.lebenshilfe-leonberg.de
SUMMARY:Kegeln
DESCRIPTION:
URL:https://www.lebenshilfe-leonberg.de/kalender/kegeln-21/
END:VEVENT
BEGIN:VEVENT
DTSTART;TZID=Europe/Helsinki:20191217T160000
DTEND;TZID=Europe/Helsinki:20191217T180000
DTSTAMP:20260422T150729
CREATED:20190315T130110Z
LAST-MODIFIED:20190315T130110Z
UID:3480-1576598400-1576605600@www.lebenshilfe-leonberg.de
SUMMARY:Kegeln
DESCRIPTION:
URL:https://www.lebenshilfe-leonberg.de/kalender/kegeln-36/
END:VEVENT
BEGIN:VEVENT
DTSTART;TZID=Europe/Helsinki:20191217T160000
DTEND;TZID=Europe/Helsinki:20191217T190000
DTSTAMP:20260422T150729
CREATED:20190315T151139Z
LAST-MODIFIED:20190315T151139Z
UID:3624-1576598400-1576609200@www.lebenshilfe-leonberg.de
SUMMARY:Weihnachts - Geschenke aus der Küche
DESCRIPTION:
URL:https://www.lebenshilfe-leonberg.de/kalender/weihnachts-geschenke-aus-der-kueche/
END:VEVENT
BEGIN:VEVENT
DTSTART;VALUE=DATE:20191220
DTEND;VALUE=DATE:20191223
DTSTAMP:20260422T150729
CREATED:20190314T144835Z
LAST-MODIFIED:20190314T144835Z
UID:3343-1576800000-1577059199@www.lebenshilfe-leonberg.de
SUMMARY:Wochenende in der Lebenshilfe
DESCRIPTION:
URL:https://www.lebenshilfe-leonberg.de/kalender/wochenende-in-der-lebenshilfe-8/
END:VEVENT
END:VCALENDAR