BEGIN:VCALENDAR
VERSION:2.0
PRODID:-//Lebenshilfe Leonberg - ECPv6.15.11//NONSGML v1.0//EN
CALSCALE:GREGORIAN
METHOD:PUBLISH
X-WR-CALNAME:Lebenshilfe Leonberg
X-ORIGINAL-URL:https://www.lebenshilfe-leonberg.de
X-WR-CALDESC:Veranstaltungen für Lebenshilfe Leonberg
REFRESH-INTERVAL;VALUE=DURATION:PT1H
X-Robots-Tag:noindex
X-PUBLISHED-TTL:PT1H
BEGIN:VTIMEZONE
TZID:Europe/Helsinki
BEGIN:DAYLIGHT
TZOFFSETFROM:+0200
TZOFFSETTO:+0300
TZNAME:EEST
DTSTART:20160327T010000
END:DAYLIGHT
BEGIN:STANDARD
TZOFFSETFROM:+0300
TZOFFSETTO:+0200
TZNAME:EET
DTSTART:20161030T010000
END:STANDARD
BEGIN:DAYLIGHT
TZOFFSETFROM:+0200
TZOFFSETTO:+0300
TZNAME:EEST
DTSTART:20170326T010000
END:DAYLIGHT
BEGIN:STANDARD
TZOFFSETFROM:+0300
TZOFFSETTO:+0200
TZNAME:EET
DTSTART:20171029T010000
END:STANDARD
BEGIN:DAYLIGHT
TZOFFSETFROM:+0200
TZOFFSETTO:+0300
TZNAME:EEST
DTSTART:20180325T010000
END:DAYLIGHT
BEGIN:STANDARD
TZOFFSETFROM:+0300
TZOFFSETTO:+0200
TZNAME:EET
DTSTART:20181028T010000
END:STANDARD
END:VTIMEZONE
BEGIN:VEVENT
DTSTART;TZID=Europe/Helsinki:20170602T180000
DTEND;TZID=Europe/Helsinki:20170602T220000
DTSTAMP:20260423T150612
CREATED:20170112T142953Z
LAST-MODIFIED:20170112T142953Z
UID:2102-1496426400-1496440800@www.lebenshilfe-leonberg.de
SUMMARY:Hoch die Hände\, Wochenende!
DESCRIPTION:Der Endzeitpunkt kann variieren.
URL:https://www.lebenshilfe-leonberg.de/kalender/hoch-die-haende-wochenende-3/
END:VEVENT
BEGIN:VEVENT
DTSTART;VALUE=DATE:20170606
DTEND;VALUE=DATE:20170610
DTSTAMP:20260423T150612
CREATED:20170109T150255Z
LAST-MODIFIED:20170109T150255Z
UID:1951-1496707200-1497052799@www.lebenshilfe-leonberg.de
SUMMARY:Ferientagesbetreuung Pfingstferien
DESCRIPTION:Täglich von 9:00 bis 16:30
URL:https://www.lebenshilfe-leonberg.de/kalender/ferientagesbetreuung-pfingstferien-6/
END:VEVENT
BEGIN:VEVENT
DTSTART;VALUE=DATE:20170610
DTEND;VALUE=DATE:20170618
DTSTAMP:20260423T150612
CREATED:20170113T114601Z
LAST-MODIFIED:20170113T114601Z
UID:2150-1497052800-1497743999@www.lebenshilfe-leonberg.de
SUMMARY:Pfingsten im Allgäu
DESCRIPTION:Uhrzeiten werden noch bekannt gegeben.
URL:https://www.lebenshilfe-leonberg.de/kalender/pfingsten-im-allgaeu/
END:VEVENT
BEGIN:VEVENT
DTSTART;TZID=Europe/Helsinki:20170620T100000
DTEND;TZID=Europe/Helsinki:20170620T120000
DTSTAMP:20260423T150612
CREATED:20170116T102912Z
LAST-MODIFIED:20170116T102912Z
UID:2243-1497952800-1497960000@www.lebenshilfe-leonberg.de
SUMMARY:Gesprächskreis: Von Anfang an\, Für Eltern von Kindern
DESCRIPTION:
URL:https://www.lebenshilfe-leonberg.de/kalender/gespraechskreis-von-anfang-an-fuer-eltern-von-kindern-6/
END:VEVENT
BEGIN:VEVENT
DTSTART;TZID=Europe/Helsinki:20170620T160000
DTEND;TZID=Europe/Helsinki:20170620T190000
DTSTAMP:20260423T150612
CREATED:20170112T135622Z
LAST-MODIFIED:20170112T135622Z
UID:2056-1497974400-1497985200@www.lebenshilfe-leonberg.de
SUMMARY:Club 19
DESCRIPTION:
URL:https://www.lebenshilfe-leonberg.de/kalender/club-19-9/
END:VEVENT
BEGIN:VEVENT
DTSTART;TZID=Europe/Helsinki:20170622T093000
DTEND;TZID=Europe/Helsinki:20170622T120000
DTSTAMP:20260423T150612
CREATED:20170116T104408Z
LAST-MODIFIED:20170116T104408Z
UID:2271-1498123800-1498132800@www.lebenshilfe-leonberg.de
SUMMARY:Gesprächskreis: Mittendrin\, Für Eltern von jugendlichen und jungen Erwachsenen
DESCRIPTION:
URL:https://www.lebenshilfe-leonberg.de/kalender/gespraechskreis-mittendrin-fuer-eltern-von-jugendlichen-und-jungen-erwachsenen-5/
END:VEVENT
BEGIN:VEVENT
DTSTART;TZID=Europe/Helsinki:20170623T193000
DTEND;TZID=Europe/Helsinki:20170623T203000
DTSTAMP:20260423T150612
CREATED:20170113T123843Z
LAST-MODIFIED:20170113T123843Z
UID:2210-1498246200-1498249800@www.lebenshilfe-leonberg.de
SUMMARY:Gesprächsrunde. Herrausforderndes Verhalten und positive Verhaltensunterstützung
DESCRIPTION:Ende der Veranstaltung kann variieren.
URL:https://www.lebenshilfe-leonberg.de/kalender/gespraechsrunde-herrausforderndes-verhalten-und-positive-verhaltensunterstuetzung/
END:VEVENT
BEGIN:VEVENT
DTSTART;TZID=Europe/Helsinki:20170624T090000
DTEND;TZID=Europe/Helsinki:20170624T180000
DTSTAMP:20260423T150612
CREATED:20170116T102404Z
LAST-MODIFIED:20170116T102404Z
UID:2231-1498294800-1498327200@www.lebenshilfe-leonberg.de
SUMMARY:Leiten will gelernt sein
DESCRIPTION:
URL:https://www.lebenshilfe-leonberg.de/kalender/leiten-will-gelernt-sein-3/
END:VEVENT
BEGIN:VEVENT
DTSTART;TZID=Europe/Helsinki:20170624T093000
DTEND;TZID=Europe/Helsinki:20170624T120000
DTSTAMP:20260423T150612
CREATED:20170109T154204Z
LAST-MODIFIED:20170109T154204Z
UID:1979-1498296600-1498305600@www.lebenshilfe-leonberg.de
SUMMARY:Kleinkindertreff
DESCRIPTION:
URL:https://www.lebenshilfe-leonberg.de/kalender/kleinkindertreff-7/
END:VEVENT
BEGIN:VEVENT
DTSTART;VALUE=DATE:20170625
DTEND;VALUE=DATE:20170702
DTSTAMP:20260423T150612
CREATED:20170113T114726Z
LAST-MODIFIED:20170113T114726Z
UID:2152-1498348800-1498953599@www.lebenshilfe-leonberg.de
SUMMARY:Sommer im bayrischen Wald
DESCRIPTION:Uhrzeiten werden noch bekannt gegeben.
URL:https://www.lebenshilfe-leonberg.de/kalender/sommer-im-bayrischen-wald/
END:VEVENT
BEGIN:VEVENT
DTSTART;TZID=Europe/Helsinki:20170627T100000
DTEND;TZID=Europe/Helsinki:20170627T113000
DTSTAMP:20260423T150612
CREATED:20170112T140905Z
LAST-MODIFIED:20170112T140905Z
UID:2078-1498557600-1498563000@www.lebenshilfe-leonberg.de
SUMMARY:Diensttagstreff für Senioren
DESCRIPTION:
URL:https://www.lebenshilfe-leonberg.de/kalender/diensttagstreff-fuer-senioren-6/
END:VEVENT
END:VCALENDAR