BEGIN:VCALENDAR
VERSION:2.0
PRODID:-//Lebenshilfe Leonberg - ECPv6.15.11//NONSGML v1.0//EN
CALSCALE:GREGORIAN
METHOD:PUBLISH
X-WR-CALNAME:Lebenshilfe Leonberg
X-ORIGINAL-URL:https://www.lebenshilfe-leonberg.de
X-WR-CALDESC:Veranstaltungen für Lebenshilfe Leonberg
REFRESH-INTERVAL;VALUE=DURATION:PT1H
X-Robots-Tag:noindex
X-PUBLISHED-TTL:PT1H
BEGIN:VTIMEZONE
TZID:Europe/Helsinki
BEGIN:DAYLIGHT
TZOFFSETFROM:+0200
TZOFFSETTO:+0300
TZNAME:EEST
DTSTART:20160327T010000
END:DAYLIGHT
BEGIN:STANDARD
TZOFFSETFROM:+0300
TZOFFSETTO:+0200
TZNAME:EET
DTSTART:20161030T010000
END:STANDARD
BEGIN:DAYLIGHT
TZOFFSETFROM:+0200
TZOFFSETTO:+0300
TZNAME:EEST
DTSTART:20170326T010000
END:DAYLIGHT
BEGIN:STANDARD
TZOFFSETFROM:+0300
TZOFFSETTO:+0200
TZNAME:EET
DTSTART:20171029T010000
END:STANDARD
BEGIN:DAYLIGHT
TZOFFSETFROM:+0200
TZOFFSETTO:+0300
TZNAME:EEST
DTSTART:20180325T010000
END:DAYLIGHT
BEGIN:STANDARD
TZOFFSETFROM:+0300
TZOFFSETTO:+0200
TZNAME:EET
DTSTART:20181028T010000
END:STANDARD
END:VTIMEZONE
BEGIN:VEVENT
DTSTART;VALUE=DATE:20170502
DTEND;VALUE=DATE:20170510
DTSTAMP:20260423T122619
CREATED:20170113T115100Z
LAST-MODIFIED:20170113T115100Z
UID:2158-1493683200-1494374399@www.lebenshilfe-leonberg.de
SUMMARY:Flugreise nach Teneriffa
DESCRIPTION:Uhrzeiten werden noch bekannt gegeben.
URL:https://www.lebenshilfe-leonberg.de/kalender/flugreise-nach-teneriffa/
END:VEVENT
BEGIN:VEVENT
DTSTART;TZID=Europe/Helsinki:20170502T090000
DTEND;TZID=Europe/Helsinki:20170502T110000
DTSTAMP:20260423T122619
CREATED:20170116T103503Z
LAST-MODIFIED:20170116T103503Z
UID:2257-1493715600-1493722800@www.lebenshilfe-leonberg.de
SUMMARY:Gesprächskreis: Atempause\, Für Eltern von Kindern aller Altersstufen
DESCRIPTION:
URL:https://www.lebenshilfe-leonberg.de/kalender/gespraechskreis-atempause-fuer-eltern-von-kindern-aller-altersstufen-2/
END:VEVENT
BEGIN:VEVENT
DTSTART;VALUE=DATE:20170503
DTEND;VALUE=DATE:20170504
DTSTAMP:20260423T122619
CREATED:20170109T145100Z
LAST-MODIFIED:20170109T145100Z
UID:1941-1493769600-1493855999@www.lebenshilfe-leonberg.de
SUMMARY:Mitgliederversammlung
DESCRIPTION:Uhrzeit wird noch bekannt gegeben.
URL:https://www.lebenshilfe-leonberg.de/kalender/mitgliederversammlung-2/
END:VEVENT
BEGIN:VEVENT
DTSTART;TZID=Europe/Helsinki:20170505T170000
DTEND;TZID=Europe/Helsinki:20170507T170000
DTSTAMP:20260423T122619
CREATED:20170109T155352Z
LAST-MODIFIED:20170109T155352Z
UID:1991-1494003600-1494176400@www.lebenshilfe-leonberg.de
SUMMARY:Wochenende für Kinder und Jugendliche
DESCRIPTION:
URL:https://www.lebenshilfe-leonberg.de/kalender/wochenende-fuer-kinder-und-jugendliche-13/
END:VEVENT
BEGIN:VEVENT
DTSTART;TZID=Europe/Helsinki:20170509T160000
DTEND;TZID=Europe/Helsinki:20170509T190000
DTSTAMP:20260423T122619
CREATED:20170112T135440Z
LAST-MODIFIED:20170112T135440Z
UID:2054-1494345600-1494356400@www.lebenshilfe-leonberg.de
SUMMARY:Club 19
DESCRIPTION:
URL:https://www.lebenshilfe-leonberg.de/kalender/club-19-8/
END:VEVENT
BEGIN:VEVENT
DTSTART;TZID=Europe/Helsinki:20170512T170000
DTEND;TZID=Europe/Helsinki:20170514T170000
DTSTAMP:20260423T122619
CREATED:20170113T113959Z
LAST-MODIFIED:20170113T113959Z
UID:2138-1494608400-1494781200@www.lebenshilfe-leonberg.de
SUMMARY:Aktivwochenende
DESCRIPTION:
URL:https://www.lebenshilfe-leonberg.de/kalender/aktivwochenende/
END:VEVENT
BEGIN:VEVENT
DTSTART;VALUE=DATE:20170513
DTEND;VALUE=DATE:20170514
DTSTAMP:20260423T122619
CREATED:20170112T143224Z
LAST-MODIFIED:20170112T143224Z
UID:2106-1494633600-1494719999@www.lebenshilfe-leonberg.de
SUMMARY:Wandern
DESCRIPTION:Uhrzeit wird noch bekannt gegeben.
URL:https://www.lebenshilfe-leonberg.de/kalender/wandern-7/
END:VEVENT
BEGIN:VEVENT
DTSTART;TZID=Europe/Helsinki:20170519T170000
DTEND;TZID=Europe/Helsinki:20170521T170000
DTSTAMP:20260423T122619
CREATED:20170112T145049Z
LAST-MODIFIED:20170112T145049Z
UID:2122-1495213200-1495386000@www.lebenshilfe-leonberg.de
SUMMARY:Wochenende für Erwachsene
DESCRIPTION:
URL:https://www.lebenshilfe-leonberg.de/kalender/wochenende-fuer-erwachsene-20/
END:VEVENT
BEGIN:VEVENT
DTSTART;TZID=Europe/Helsinki:20170523T090000
DTEND;TZID=Europe/Helsinki:20170523T113000
DTSTAMP:20260423T122619
CREATED:20170112T140824Z
LAST-MODIFIED:20170112T140824Z
UID:2076-1495530000-1495539000@www.lebenshilfe-leonberg.de
SUMMARY:Diensttagstreff für Senioren
DESCRIPTION:
URL:https://www.lebenshilfe-leonberg.de/kalender/diensttagstreff-fuer-senioren-5/
END:VEVENT
BEGIN:VEVENT
DTSTART;VALUE=DATE:20170525
DTEND;VALUE=DATE:20170529
DTSTAMP:20260423T122619
CREATED:20170113T114442Z
LAST-MODIFIED:20170113T114442Z
UID:2148-1495670400-1496015999@www.lebenshilfe-leonberg.de
SUMMARY:Städtereise Wiesbaden
DESCRIPTION:Uhrzeiten werden noch bekannt gegeben.
URL:https://www.lebenshilfe-leonberg.de/kalender/staedtereise-wiesbaden/
END:VEVENT
BEGIN:VEVENT
DTSTART;TZID=Europe/Helsinki:20170525T090000
DTEND;TZID=Europe/Helsinki:20170528T170000
DTSTAMP:20260423T122619
CREATED:20170109T160356Z
LAST-MODIFIED:20170109T160356Z
UID:2009-1495702800-1495990800@www.lebenshilfe-leonberg.de
SUMMARY:Langes Reiterwochenende
DESCRIPTION:
URL:https://www.lebenshilfe-leonberg.de/kalender/langes-reiterwochenende-2/
END:VEVENT
BEGIN:VEVENT
DTSTART;TZID=Europe/Helsinki:20170527T093000
DTEND;TZID=Europe/Helsinki:20170527T120000
DTSTAMP:20260423T122619
CREATED:20170109T154050Z
LAST-MODIFIED:20170109T154050Z
UID:1977-1495877400-1495886400@www.lebenshilfe-leonberg.de
SUMMARY:Kleinkindertreff
DESCRIPTION:
URL:https://www.lebenshilfe-leonberg.de/kalender/kleinkindertreff-6/
END:VEVENT
BEGIN:VEVENT
DTSTART;TZID=Europe/Helsinki:20170528T143000
DTEND;TZID=Europe/Helsinki:20170528T163000
DTSTAMP:20260423T122619
CREATED:20170113T121050Z
LAST-MODIFIED:20170113T121050Z
UID:2186-1495981800-1495989000@www.lebenshilfe-leonberg.de
SUMMARY:Singnachmittag
DESCRIPTION:
URL:https://www.lebenshilfe-leonberg.de/kalender/singnachmittag-2/
END:VEVENT
BEGIN:VEVENT
DTSTART;TZID=Europe/Helsinki:20170530T100000
DTEND;TZID=Europe/Helsinki:20170530T120000
DTSTAMP:20260423T122619
CREATED:20170116T102840Z
LAST-MODIFIED:20170116T102840Z
UID:2241-1496138400-1496145600@www.lebenshilfe-leonberg.de
SUMMARY:Gesprächskreis: Von Anfang an\, Für Eltern von Kindern
DESCRIPTION:
URL:https://www.lebenshilfe-leonberg.de/kalender/gespraechskreis-von-anfang-an-fuer-eltern-von-kindern-5/
END:VEVENT
END:VCALENDAR