BEGIN:VCALENDAR
VERSION:2.0
PRODID:-//Lebenshilfe Leonberg - ECPv6.15.11//NONSGML v1.0//EN
CALSCALE:GREGORIAN
METHOD:PUBLISH
X-ORIGINAL-URL:https://www.lebenshilfe-leonberg.de
X-WR-CALDESC:Veranstaltungen für Lebenshilfe Leonberg
REFRESH-INTERVAL;VALUE=DURATION:PT1H
X-Robots-Tag:noindex
X-PUBLISHED-TTL:PT1H
BEGIN:VTIMEZONE
TZID:Europe/Helsinki
BEGIN:DAYLIGHT
TZOFFSETFROM:+0200
TZOFFSETTO:+0300
TZNAME:EEST
DTSTART:20160327T010000
END:DAYLIGHT
BEGIN:STANDARD
TZOFFSETFROM:+0300
TZOFFSETTO:+0200
TZNAME:EET
DTSTART:20161030T010000
END:STANDARD
BEGIN:DAYLIGHT
TZOFFSETFROM:+0200
TZOFFSETTO:+0300
TZNAME:EEST
DTSTART:20170326T010000
END:DAYLIGHT
BEGIN:STANDARD
TZOFFSETFROM:+0300
TZOFFSETTO:+0200
TZNAME:EET
DTSTART:20171029T010000
END:STANDARD
BEGIN:DAYLIGHT
TZOFFSETFROM:+0200
TZOFFSETTO:+0300
TZNAME:EEST
DTSTART:20180325T010000
END:DAYLIGHT
BEGIN:STANDARD
TZOFFSETFROM:+0300
TZOFFSETTO:+0200
TZNAME:EET
DTSTART:20181028T010000
END:STANDARD
END:VTIMEZONE
BEGIN:VEVENT
DTSTART;TZID=Europe/Helsinki:20170331T170000
DTEND;TZID=Europe/Helsinki:20170402T170000
DTSTAMP:20260423T122806
CREATED:20170109T160100Z
LAST-MODIFIED:20170109T160100Z
UID:2005-1490979600-1491152400@www.lebenshilfe-leonberg.de
SUMMARY:Themenwochenende Teeniethemen
DESCRIPTION:
URL:https://www.lebenshilfe-leonberg.de/kalender/themenwochenende-teeniethemen/
END:VEVENT
BEGIN:VEVENT
DTSTART;TZID=Europe/Helsinki:20170402T100000
DTEND;TZID=Europe/Helsinki:20170402T150000
DTSTAMP:20260423T122806
CREATED:20170113T115530Z
LAST-MODIFIED:20170113T115530Z
UID:2164-1491127200-1491145200@www.lebenshilfe-leonberg.de
SUMMARY:Thementag Lebenslauf
DESCRIPTION:
URL:https://www.lebenshilfe-leonberg.de/kalender/thementag-lebenslauf/
END:VEVENT
BEGIN:VEVENT
DTSTART;TZID=Europe/Helsinki:20170404T160000
DTEND;TZID=Europe/Helsinki:20170404T190000
DTSTAMP:20260423T122806
CREATED:20170112T135353Z
LAST-MODIFIED:20170112T135353Z
UID:2052-1491321600-1491332400@www.lebenshilfe-leonberg.de
SUMMARY:Club 19
DESCRIPTION:
URL:https://www.lebenshilfe-leonberg.de/kalender/club-19-7/
END:VEVENT
BEGIN:VEVENT
DTSTART;VALUE=DATE:20170409
DTEND;VALUE=DATE:20170410
DTSTAMP:20260423T122806
CREATED:20170109T144856Z
LAST-MODIFIED:20170109T144856Z
UID:1939-1491696000-1491782399@www.lebenshilfe-leonberg.de
SUMMARY:Osterbrunch
DESCRIPTION:Uhrzeit wird noch bekannt gegeben.
URL:https://www.lebenshilfe-leonberg.de/kalender/osterbrunch-2/
END:VEVENT
BEGIN:VEVENT
DTSTART;VALUE=DATE:20170410
DTEND;VALUE=DATE:20170413
DTSTAMP:20260423T122806
CREATED:20170109T154923Z
LAST-MODIFIED:20170109T154923Z
UID:1985-1491782400-1492041599@www.lebenshilfe-leonberg.de
SUMMARY:Zirkus LEO
DESCRIPTION:Täglich von 10:00 bis 15:00
URL:https://www.lebenshilfe-leonberg.de/kalender/zirkus-leo-5/
END:VEVENT
BEGIN:VEVENT
DTSTART;VALUE=DATE:20170410
DTEND;VALUE=DATE:20170414
DTSTAMP:20260423T122806
CREATED:20170109T150148Z
LAST-MODIFIED:20170109T150148Z
UID:1949-1491782400-1492127999@www.lebenshilfe-leonberg.de
SUMMARY:Ferientagesbetreuung Osterferien
DESCRIPTION:Täglich von 9:00 bis 16:30
URL:https://www.lebenshilfe-leonberg.de/kalender/ferientagesbetreuung-osterferien-5/
END:VEVENT
BEGIN:VEVENT
DTSTART;VALUE=DATE:20170415
DTEND;VALUE=DATE:20170423
DTSTAMP:20260423T122806
CREATED:20170109T160906Z
LAST-MODIFIED:20170109T160906Z
UID:2011-1492214400-1492905599@www.lebenshilfe-leonberg.de
SUMMARY:Osterfreizeit in Tieringen
DESCRIPTION:
URL:https://www.lebenshilfe-leonberg.de/kalender/osterfreizeit-in-tieringen/
END:VEVENT
BEGIN:VEVENT
DTSTART;VALUE=DATE:20170418
DTEND;VALUE=DATE:20170422
DTSTAMP:20260423T122806
CREATED:20170109T154751Z
LAST-MODIFIED:20170109T154751Z
UID:1983-1492473600-1492819199@www.lebenshilfe-leonberg.de
SUMMARY:Schwimmkurs
DESCRIPTION:Täglich von 13:00 bis 13:45
URL:https://www.lebenshilfe-leonberg.de/kalender/schwimmkurs/
END:VEVENT
BEGIN:VEVENT
DTSTART;TZID=Europe/Helsinki:20170421T180000
DTEND;TZID=Europe/Helsinki:20170421T220000
DTSTAMP:20260423T122806
CREATED:20170112T142846Z
LAST-MODIFIED:20170112T142846Z
UID:2100-1492797600-1492812000@www.lebenshilfe-leonberg.de
SUMMARY:Hoch die Hände\, Wochenende!
DESCRIPTION:Der Endzeitpunkt kann variieren.
URL:https://www.lebenshilfe-leonberg.de/kalender/hoch-die-haende-wochenende-2/
END:VEVENT
BEGIN:VEVENT
DTSTART;TZID=Europe/Helsinki:20170425T090000
DTEND;TZID=Europe/Helsinki:20170425T113000
DTSTAMP:20260423T122806
CREATED:20170112T140711Z
LAST-MODIFIED:20170112T140711Z
UID:2074-1493110800-1493119800@www.lebenshilfe-leonberg.de
SUMMARY:Diensttagstreff für Senioren
DESCRIPTION:
URL:https://www.lebenshilfe-leonberg.de/kalender/diensttagstreff-fuer-senioren-4/
END:VEVENT
BEGIN:VEVENT
DTSTART;TZID=Europe/Helsinki:20170425T100000
DTEND;TZID=Europe/Helsinki:20170425T120000
DTSTAMP:20260423T122806
CREATED:20170116T102757Z
LAST-MODIFIED:20170116T102757Z
UID:2239-1493114400-1493121600@www.lebenshilfe-leonberg.de
SUMMARY:Gesprächskreis: Von Anfang an\, Für Eltern von Kindern
DESCRIPTION:
URL:https://www.lebenshilfe-leonberg.de/kalender/gespraechskreis-von-anfang-an-fuer-eltern-von-kindern-4/
END:VEVENT
BEGIN:VEVENT
DTSTART;TZID=Europe/Helsinki:20170425T160000
DTEND;TZID=Europe/Helsinki:20170425T190000
DTSTAMP:20260423T122806
CREATED:20170113T120502Z
LAST-MODIFIED:20170113T120502Z
UID:2178-1493136000-1493146800@www.lebenshilfe-leonberg.de
SUMMARY:Geschenke aus der Küche
DESCRIPTION:Mutter- und Vatertagsgeschenke
URL:https://www.lebenshilfe-leonberg.de/kalender/geschenke-aus-der-kueche-5/
END:VEVENT
BEGIN:VEVENT
DTSTART;TZID=Europe/Helsinki:20170427T093000
DTEND;TZID=Europe/Helsinki:20170427T120000
DTSTAMP:20260423T122806
CREATED:20170116T104213Z
LAST-MODIFIED:20170116T104213Z
UID:2269-1493285400-1493294400@www.lebenshilfe-leonberg.de
SUMMARY:Gesprächskreis: Mittendrin\, Für Eltern von jugendlichen und jungen Erwachsenen
DESCRIPTION:
URL:https://www.lebenshilfe-leonberg.de/kalender/gespraechskreis-mittendrin-fuer-eltern-von-jugendlichen-und-jungen-erwachsenen-4/
END:VEVENT
BEGIN:VEVENT
DTSTART;TZID=Europe/Helsinki:20170428T170000
DTEND;TZID=Europe/Helsinki:20170430T170000
DTSTAMP:20260423T122806
CREATED:20170112T144959Z
LAST-MODIFIED:20170112T144959Z
UID:2120-1493398800-1493571600@www.lebenshilfe-leonberg.de
SUMMARY:Wochenende für Erwachsene
DESCRIPTION:
URL:https://www.lebenshilfe-leonberg.de/kalender/wochenende-fuer-erwachsene-19/
END:VEVENT
BEGIN:VEVENT
DTSTART;TZID=Europe/Helsinki:20170429T093000
DTEND;TZID=Europe/Helsinki:20170429T120000
DTSTAMP:20260423T122806
CREATED:20170109T153859Z
LAST-MODIFIED:20170109T153859Z
UID:1973-1493458200-1493467200@www.lebenshilfe-leonberg.de
SUMMARY:Kleinkindertreff
DESCRIPTION:
URL:https://www.lebenshilfe-leonberg.de/kalender/kleinkindertreff-4/
END:VEVENT
END:VCALENDAR