BEGIN:VCALENDAR
VERSION:2.0
PRODID:-//Lebenshilfe Leonberg - ECPv6.15.11//NONSGML v1.0//EN
CALSCALE:GREGORIAN
METHOD:PUBLISH
X-ORIGINAL-URL:https://www.lebenshilfe-leonberg.de
X-WR-CALDESC:Veranstaltungen für Lebenshilfe Leonberg
REFRESH-INTERVAL;VALUE=DURATION:PT1H
X-Robots-Tag:noindex
X-PUBLISHED-TTL:PT1H
BEGIN:VTIMEZONE
TZID:Europe/Berlin
BEGIN:DAYLIGHT
TZOFFSETFROM:+0100
TZOFFSETTO:+0200
TZNAME:CEST
DTSTART:20250330T010000
END:DAYLIGHT
BEGIN:STANDARD
TZOFFSETFROM:+0200
TZOFFSETTO:+0100
TZNAME:CET
DTSTART:20251026T010000
END:STANDARD
BEGIN:DAYLIGHT
TZOFFSETFROM:+0100
TZOFFSETTO:+0200
TZNAME:CEST
DTSTART:20260329T010000
END:DAYLIGHT
BEGIN:STANDARD
TZOFFSETFROM:+0200
TZOFFSETTO:+0100
TZNAME:CET
DTSTART:20261025T010000
END:STANDARD
BEGIN:DAYLIGHT
TZOFFSETFROM:+0100
TZOFFSETTO:+0200
TZNAME:CEST
DTSTART:20270328T010000
END:DAYLIGHT
BEGIN:STANDARD
TZOFFSETFROM:+0200
TZOFFSETTO:+0100
TZNAME:CET
DTSTART:20271031T010000
END:STANDARD
END:VTIMEZONE
BEGIN:VEVENT
DTSTART;TZID=Europe/Berlin:20261130T160000
DTEND;TZID=Europe/Berlin:20261130T173000
DTSTAMP:20260422T125341
CREATED:20260113T155625Z
LAST-MODIFIED:20260113T155625Z
UID:7666-1796054400-1796059800@www.lebenshilfe-leonberg.de
SUMMARY:Kegeln
DESCRIPTION:
URL:https://www.lebenshilfe-leonberg.de/kalender/kegeln-72/
END:VEVENT
BEGIN:VEVENT
DTSTART;TZID=Europe/Berlin:20261130T173000
DTEND;TZID=Europe/Berlin:20261130T220000
DTSTAMP:20260422T125341
CREATED:20260120T103422Z
LAST-MODIFIED:20260120T103422Z
UID:7764-1796059800-1796076000@www.lebenshilfe-leonberg.de
SUMMARY:Blockbusters!
DESCRIPTION:
URL:https://www.lebenshilfe-leonberg.de/kalender/blockbusters-25/
END:VEVENT
END:VCALENDAR