BEGIN:VCALENDAR
VERSION:2.0
PRODID:-//Lebenshilfe Leonberg - ECPv6.15.11//NONSGML v1.0//EN
CALSCALE:GREGORIAN
METHOD:PUBLISH
X-WR-CALNAME:Lebenshilfe Leonberg
X-ORIGINAL-URL:https://www.lebenshilfe-leonberg.de
X-WR-CALDESC:Veranstaltungen für Lebenshilfe Leonberg
REFRESH-INTERVAL;VALUE=DURATION:PT1H
X-Robots-Tag:noindex
X-PUBLISHED-TTL:PT1H
BEGIN:VTIMEZONE
TZID:Europe/Berlin
BEGIN:DAYLIGHT
TZOFFSETFROM:+0100
TZOFFSETTO:+0200
TZNAME:CEST
DTSTART:20250330T010000
END:DAYLIGHT
BEGIN:STANDARD
TZOFFSETFROM:+0200
TZOFFSETTO:+0100
TZNAME:CET
DTSTART:20251026T010000
END:STANDARD
BEGIN:DAYLIGHT
TZOFFSETFROM:+0100
TZOFFSETTO:+0200
TZNAME:CEST
DTSTART:20260329T010000
END:DAYLIGHT
BEGIN:STANDARD
TZOFFSETFROM:+0200
TZOFFSETTO:+0100
TZNAME:CET
DTSTART:20261025T010000
END:STANDARD
BEGIN:DAYLIGHT
TZOFFSETFROM:+0100
TZOFFSETTO:+0200
TZNAME:CEST
DTSTART:20270328T010000
END:DAYLIGHT
BEGIN:STANDARD
TZOFFSETFROM:+0200
TZOFFSETTO:+0100
TZNAME:CET
DTSTART:20271031T010000
END:STANDARD
END:VTIMEZONE
BEGIN:VEVENT
DTSTART;TZID=Europe/Berlin:20260315T100000
DTEND;TZID=Europe/Berlin:20260315T150000
DTSTAMP:20260422T131257
CREATED:20260113T142246Z
LAST-MODIFIED:20260113T142246Z
UID:7528-1773568800-1773586800@www.lebenshilfe-leonberg.de
SUMMARY:Pflegekompaktkurs
DESCRIPTION:
URL:https://www.lebenshilfe-leonberg.de/kalender/pflegekompaktkurs-13/
END:VEVENT
BEGIN:VEVENT
DTSTART;TZID=Europe/Berlin:20260315T140000
DTEND;TZID=Europe/Berlin:20260315T160000
DTSTAMP:20260422T131257
CREATED:20260113T145958Z
LAST-MODIFIED:20260113T145958Z
UID:7570-1773583200-1773590400@www.lebenshilfe-leonberg.de
SUMMARY:Yin Yoga
DESCRIPTION:
URL:https://www.lebenshilfe-leonberg.de/kalender/yin-yoga-14/
END:VEVENT
END:VCALENDAR