BEGIN:VCALENDAR
VERSION:2.0
PRODID:-//Lebenshilfe Leonberg - ECPv6.15.11//NONSGML v1.0//EN
CALSCALE:GREGORIAN
METHOD:PUBLISH
X-WR-CALNAME:Lebenshilfe Leonberg
X-ORIGINAL-URL:https://www.lebenshilfe-leonberg.de
X-WR-CALDESC:Veranstaltungen für Lebenshilfe Leonberg
REFRESH-INTERVAL;VALUE=DURATION:PT1H
X-Robots-Tag:noindex
X-PUBLISHED-TTL:PT1H
BEGIN:VTIMEZONE
TZID:Europe/Helsinki
BEGIN:DAYLIGHT
TZOFFSETFROM:+0200
TZOFFSETTO:+0300
TZNAME:EEST
DTSTART:20180325T010000
END:DAYLIGHT
BEGIN:STANDARD
TZOFFSETFROM:+0300
TZOFFSETTO:+0200
TZNAME:EET
DTSTART:20181028T010000
END:STANDARD
BEGIN:DAYLIGHT
TZOFFSETFROM:+0200
TZOFFSETTO:+0300
TZNAME:EEST
DTSTART:20190331T010000
END:DAYLIGHT
BEGIN:STANDARD
TZOFFSETFROM:+0300
TZOFFSETTO:+0200
TZNAME:EET
DTSTART:20191027T010000
END:STANDARD
BEGIN:DAYLIGHT
TZOFFSETFROM:+0200
TZOFFSETTO:+0300
TZNAME:EEST
DTSTART:20200329T010000
END:DAYLIGHT
BEGIN:STANDARD
TZOFFSETFROM:+0300
TZOFFSETTO:+0200
TZNAME:EET
DTSTART:20201025T010000
END:STANDARD
END:VTIMEZONE
BEGIN:VEVENT
DTSTART;TZID=Europe/Helsinki:20191022T100000
DTEND;TZID=Europe/Helsinki:20191022T120000
DTSTAMP:20260423T105031
CREATED:20190513T120600Z
LAST-MODIFIED:20190513T120600Z
UID:3804-1571738400-1571745600@www.lebenshilfe-leonberg.de
SUMMARY:Gesprächskreis "von Anfang an"
DESCRIPTION:Leitung: Marion Speidel
URL:https://www.lebenshilfe-leonberg.de/kalender/gespraechskreis-von-anfang-an-4/
END:VEVENT
BEGIN:VEVENT
DTSTART;TZID=Europe/Helsinki:20191022T160000
DTEND;TZID=Europe/Helsinki:20191022T180000
DTSTAMP:20260423T105031
CREATED:20190315T125740Z
LAST-MODIFIED:20190315T125740Z
UID:3468-1571760000-1571767200@www.lebenshilfe-leonberg.de
SUMMARY:Kegeln
DESCRIPTION:
URL:https://www.lebenshilfe-leonberg.de/kalender/kegeln-32/
END:VEVENT
BEGIN:VEVENT
DTSTART;TZID=Europe/Helsinki:20191022T160000
DTEND;TZID=Europe/Helsinki:20191022T190000
DTSTAMP:20260423T105031
CREATED:20190315T143100Z
LAST-MODIFIED:20190315T143100Z
UID:3509-1571760000-1571770800@www.lebenshilfe-leonberg.de
SUMMARY:Koch- und Backtreff
DESCRIPTION:Heute gibt’s ein deftiges Vesper!
URL:https://www.lebenshilfe-leonberg.de/kalender/koch-und-backtreff-9/
END:VEVENT
END:VCALENDAR